BEGIN:VCALENDAR
VERSION:2.0
PRODID:-//eventon.com NONSGML v1.0//EN
BEGIN:VEVENT
UID:69e5fc6dd5ced
DTSTAMP:20260420T051405
DTSTART:20250215T173000Z
DTEND:20250215T203000Z
TZID:America/Chicago
LOCATION:MOTOR Bar and Restaurant 401 W Canal St\,  Milwaukee\,  WI 53203
SUMMARY:BBQ & Blues // Music by Andrew Gelles Trio
DESCRIPTION: Come on down and join us for a fun night filled with music and great food featuring Andrew Gelles Trio! Take in a live performance from a rotating lineup of blues musicians\,  plus all-you-can-eat\,  hickory-smoked BBQ chicken\,  pulled pork\,  smoked brisket and grilled sausage links. All BBQ platters come with[..]\nhttps://acaentertainment.com/events/bbq-blues-music-by-andrew-gelles-trio/
URL:https://acaentertainment.com/events/bbq-blues-music-by-andrew-gelles-trio/
END:VEVENT
END:VCALENDAR