BEGIN:VCALENDAR
VERSION:2.0
PRODID:-//eventon.com NONSGML v1.0//EN
BEGIN:VEVENT
UID:69e86ece3feb8
DTSTAMP:20260422T014638
DTSTART:20230715T123000Z
DTEND:20230715T143000Z
TZID:America/Chicago
LOCATION:Veteran&#039;s Memorial Park Bandshell Lake St\,  Port Washington\,  WI 53074
SUMMARY:Downtown Harrison at Port Washington Fish Day
DESCRIPTION: Join Downtown Harrison at Port Fish Days on Saturday 7/15 for music on the main stage! Downtown Harrison puts on a great show. He has a great voice and impersonates a lot of singers: Sinatra\,  Elvis\,  Johnny Cash\,  Neil Diamond\,  James Brown\,  and Tina Turner. Yes. Tina Turner. When he[..]\nhttps://acaentertainment.com/events/downtown-harrison-at-port-washington-fish-day/
URL:https://acaentertainment.com/events/downtown-harrison-at-port-washington-fish-day/
END:VEVENT
END:VCALENDAR