BEGIN:VCALENDAR
VERSION:2.0
PRODID:-//eventon.com NONSGML v1.0//EN
BEGIN:VEVENT
UID:69ed8212a7f4b
DTSTAMP:20260425T221010
DTSTART:20221229T200000Z
DTEND:20221229T230000Z
TZID:America/Chicago
LOCATION:Anodyne Coffee Roasting Co. 
SUMMARY:ACA Showcase: Chris Haise Band\,  Stephen Hull Experience\,  and Alyssia Dominguez
DESCRIPTION: Please join us for a special ACA Showcase at Anodyne! $10 in advance // $15 at the door Get Tickets The Milwaukee-based Chris Haise Band’s (pronounced Hi-zee) music is a blend of hook-filled ballads and toe tappers. Mixing Folk and Rock\,  Haise’s vocals have been described as Dylan meets Springsteen[..]\nhttps://acaentertainment.com/events/aca-showcase-chris-haise-band-stephen-hull-experience-and-haley-klinkhammer/
URL:https://acaentertainment.com/events/aca-showcase-chris-haise-band-stephen-hull-experience-and-haley-klinkhammer/
END:VEVENT
END:VCALENDAR